BEGIN:VCALENDAR
VERSION:2.0
PRODID:-//weidenhausen.de - ECPv6.15.20//NONSGML v1.0//EN
CALSCALE:GREGORIAN
METHOD:PUBLISH
X-WR-CALNAME:weidenhausen.de
X-ORIGINAL-URL:https://weidenhausen.de
X-WR-CALDESC:Veranstaltungen für weidenhausen.de
REFRESH-INTERVAL;VALUE=DURATION:PT1H
X-Robots-Tag:noindex
X-PUBLISHED-TTL:PT1H
BEGIN:VTIMEZONE
TZID:Europe/Berlin
BEGIN:DAYLIGHT
TZOFFSETFROM:+0100
TZOFFSETTO:+0200
TZNAME:CEST
DTSTART:20250330T010000
END:DAYLIGHT
BEGIN:STANDARD
TZOFFSETFROM:+0200
TZOFFSETTO:+0100
TZNAME:CET
DTSTART:20251026T010000
END:STANDARD
BEGIN:DAYLIGHT
TZOFFSETFROM:+0100
TZOFFSETTO:+0200
TZNAME:CEST
DTSTART:20260329T010000
END:DAYLIGHT
BEGIN:STANDARD
TZOFFSETFROM:+0200
TZOFFSETTO:+0100
TZNAME:CET
DTSTART:20261025T010000
END:STANDARD
BEGIN:DAYLIGHT
TZOFFSETFROM:+0100
TZOFFSETTO:+0200
TZNAME:CEST
DTSTART:20270328T010000
END:DAYLIGHT
BEGIN:STANDARD
TZOFFSETFROM:+0200
TZOFFSETTO:+0100
TZNAME:CET
DTSTART:20271031T010000
END:STANDARD
END:VTIMEZONE
BEGIN:VEVENT
DTSTART;TZID=Europe/Berlin:20260422T190000
DTEND;TZID=Europe/Berlin:20260422T190000
DTSTAMP:20260421T104457
CREATED:20260324T151657Z
LAST-MODIFIED:20260324T152003Z
UID:1615-1776884400-1776884400@weidenhausen.de
SUMMARY:Jahreshauptversammlung Schwimmbadfreunde Weidenhausen
DESCRIPTION:Tagesordnung:\n\n\n\n\nBegrüßung und Feststellen der Beschlussfähigkeit\n\n\n\nGenehmigung der Tagesordnung\n\n\n\nGenehmigung des Protokolls der letzten Jahreshauptversammlung\n\n\n\nBericht des Vorstands über die Aktivitäten seit der letzten JHV\n\n\n\nBericht des Kassierers\, der Kassenprüfer und Beschlussfassung\n\n\n\nWahl eines neuen Kassenprüfers\n\n\n\nEntlastung des Vorstandes für das Jahr 2025\n\n\n\nAussprache über die Berichte\n\n\n\nVerschiedenes
URL:https://weidenhausen.de/event/jhv-schwimmbadfreunde-weidenhausen/
LOCATION:DGH Weidenhausen\, Weidenhausen\, Hessen\, 35075\, Deutschland
ATTACH;FMTTYPE=image/png:https://weidenhausen.de/wp-content/uploads/2026/03/Logo_Schwimmbadfreunde.png
END:VEVENT
BEGIN:VEVENT
DTSTART;TZID=Europe/Berlin:20260425T090000
DTEND;TZID=Europe/Berlin:20260425T090000
DTSTAMP:20260421T104457
CREATED:20260331T052713Z
LAST-MODIFIED:20260331T052714Z
UID:1635-1777107600-1777107600@weidenhausen.de
SUMMARY:Eine Rasante fahrt durch die weibliche Automobilgeschichte
DESCRIPTION:Referentin: Gabriele Clement
URL:https://weidenhausen.de/event/eine-rasante-fahrt-durch-die-weibliche-automobilgeschichte/
LOCATION:Gemeindehaus der ev. Kirche\, Am Alten Friedhof 1\, Weidenhausen\, Hessen\, 35075\, Deutschland
ATTACH;FMTTYPE=image/jpeg:https://weidenhausen.de/wp-content/uploads/2026/03/evKirch-Weibliche_Automobilgeschichte.jpeg
END:VEVENT
BEGIN:VEVENT
DTSTART;TZID=Europe/Berlin:20260425T150000
DTEND;TZID=Europe/Berlin:20260425T150000
DTSTAMP:20260421T104457
CREATED:20251126T200042Z
LAST-MODIFIED:20260225T050811Z
UID:1214-1777129200-1777129200@weidenhausen.de
SUMMARY:Jahreshauptversammlung Heimatverein Weidenhausen
DESCRIPTION:
URL:https://weidenhausen.de/event/jahreshauptversammlung-heimatverein-weidenhausen/
LOCATION:Hinz Hoob\, Weidenhäuser Strasse 32\, Weidenhausen\, Hessen\, 35075\, Deutschland
CATEGORIES:Allgemein
ATTACH;FMTTYPE=image/png:https://weidenhausen.de/wp-content/uploads/2025/12/HV-Logo-Refresh.png
ORGANIZER;CN="HV Weidenhausen e. V.":MAILTO:info@hv-weidenhausen.de
END:VEVENT
BEGIN:VEVENT
DTSTART;TZID=Europe/Berlin:20260430T190000
DTEND;TZID=Europe/Berlin:20260430T190000
DTSTAMP:20260421T104457
CREATED:20251126T200202Z
LAST-MODIFIED:20260225T050914Z
UID:1218-1777575600-1777575600@weidenhausen.de
SUMMARY:Mit Musik in den Mai
DESCRIPTION:
URL:https://weidenhausen.de/event/mit-musik-in-den-mai/
LOCATION:FFW Weidenhausen\, Südring\, Weidenhausen\, Hessen\, 35075\, Deutschland
CATEGORIES:Allgemein
ATTACH;FMTTYPE=image/png:https://weidenhausen.de/wp-content/uploads/2025/11/FFW-Weidenhausen.png
END:VEVENT
BEGIN:VEVENT
DTSTART;TZID=Europe/Berlin:20260501T000000
DTEND;TZID=Europe/Berlin:20260501T235959
DTSTAMP:20260421T104457
CREATED:20251126T200129Z
LAST-MODIFIED:20260225T050914Z
UID:1216-1777593600-1777679999@weidenhausen.de
SUMMARY:Maibratpartie der FFW Weidenhausen
DESCRIPTION:
URL:https://weidenhausen.de/event/maibratpartie/
LOCATION:FFW Weidenhausen\, Südring\, Weidenhausen\, Hessen\, 35075\, Deutschland
CATEGORIES:Allgemein
ATTACH;FMTTYPE=image/png:https://weidenhausen.de/wp-content/uploads/2025/11/FFW-Weidenhausen.png
END:VEVENT
BEGIN:VEVENT
DTSTART;TZID=Europe/Berlin:20260513T193000
DTEND;TZID=Europe/Berlin:20260513T193000
DTSTAMP:20260421T104457
CREATED:20251126T200255Z
LAST-MODIFIED:20260225T050827Z
UID:1220-1778700600-1778700600@weidenhausen.de
SUMMARY:Jahreshauptversammlung TTC Weidenhausen
DESCRIPTION:
URL:https://weidenhausen.de/event/jahreshauptversammlung-ttc-weidenhausen/
LOCATION:Brennerpass\, Westring 16\, Weidenhausen\, Hessen\, 35075\, Deutschland
CATEGORIES:Allgemein
ATTACH;FMTTYPE=image/png:https://weidenhausen.de/wp-content/uploads/2025/12/TTC-Platzhalter.png
END:VEVENT
BEGIN:VEVENT
DTSTART;TZID=Europe/Berlin:20260517T100000
DTEND;TZID=Europe/Berlin:20260517T190000
DTSTAMP:20260421T104457
CREATED:20260415T143712Z
LAST-MODIFIED:20260415T143735Z
UID:1659-1779012000-1779044400@weidenhausen.de
SUMMARY:Kermes - Gemeindefest
DESCRIPTION:
URL:https://weidenhausen.de/event/kermes-gemeindefest/
LOCATION:Hira Moschee\, Römershäuser Straße 9\, Weidenhaisen\, Hessen\, 35075\, Deutschland
ATTACH;FMTTYPE=image/jpeg:https://weidenhausen.de/wp-content/uploads/2026/04/Hira-Kermes-2026.jpg
END:VEVENT
BEGIN:VEVENT
DTSTART;TZID=Europe/Berlin:20260614T100000
DTEND;TZID=Europe/Berlin:20260614T100000
DTSTAMP:20260421T104457
CREATED:20260225T051426Z
LAST-MODIFIED:20260402T075832Z
UID:1560-1781431200-1781431200@weidenhausen.de
SUMMARY:Kings of Hinterland
DESCRIPTION:Das „Kings of Hinterland“ ist ein Turnier\, dass es so noch nicht gibt. Ein abgewandeltes Regelwerk\, angelehnt an die offiziellen Liga-Regeln. \n\n\n\nMannschaften treten im K.O.-System gegeneinander an\, bis am Ende nur noch die „Kings of Hinterland“ übrig bleiben. \n\n\n\nZuschauer sind Herzlich willkommen! \n\n\n\nDetails https://tv1909-weidenhausen.de/event/kings-of-hinterland/
URL:https://weidenhausen.de/event/kings-of-hinterland/
LOCATION:Turnerheim Weidenhausen\, Turnerweg\, Weidenhausen\, Hessen\, 35075\, Deutschland
CATEGORIES:Allgemein
ATTACH;FMTTYPE=image/jpeg:https://weidenhausen.de/wp-content/uploads/2026/02/KingsOfHinterland-768x768-1.jpeg
ORGANIZER;CN="TV1909 Weidenhausen e. V.":MAILTO:info@tv1909-weidenhausen.de
END:VEVENT
BEGIN:VEVENT
DTSTART;TZID=Europe/Berlin:20260619T000000
DTEND;TZID=Europe/Berlin:20260621T235959
DTSTAMP:20260421T104457
CREATED:20260225T045816Z
LAST-MODIFIED:20260225T050950Z
UID:1552-1781827200-1782086399@weidenhausen.de
SUMMARY:VfL Sommerfest Wochenende
DESCRIPTION:19. Juni – Ü35 Kreismeisterschaft mit Dämmerschoppen und Musikhits der letzten Jahrzehnte \n\n\n\n20. Juni – Dorfmeisterschaft \n\n\n\n21. Juni – Tag der Jugend mit Hüpfburg und Spielmobil
URL:https://weidenhausen.de/event/vfl-sommerfest-wochenende/
LOCATION:Sportheim VfL\, Weidenhausen\, Hessen\, 35075\, Deutschland
CATEGORIES:Allgemein
ATTACH;FMTTYPE=image/jpeg:https://weidenhausen.de/wp-content/uploads/2026/02/VfL-Sommerfest-Wochenende-2026.jpeg
END:VEVENT
BEGIN:VEVENT
DTSTART;TZID=Europe/Berlin:20260620T000000
DTEND;TZID=Europe/Berlin:20260620T235959
DTSTAMP:20260421T104457
CREATED:20260224T115406Z
LAST-MODIFIED:20260225T050721Z
UID:1548-1781913600-1781999999@weidenhausen.de
SUMMARY:VfL Dorfturnier
DESCRIPTION:Anmeldungen bis zum 31. Mai 2026 an0175 – 4841980 (Fabian Neurath)0175 – 4118686 (Manuel Herwig)
URL:https://weidenhausen.de/event/vfl-dorfturnier/
LOCATION:Sportheim VfL\, Weidenhausen\, Hessen\, 35075\, Deutschland
CATEGORIES:Allgemein
ATTACH;FMTTYPE=image/png:https://weidenhausen.de/wp-content/uploads/2026/02/VfL-Dorfturnier.png
END:VEVENT
BEGIN:VEVENT
DTSTART;TZID=Europe/Berlin:20260627T160000
DTEND;TZID=Europe/Berlin:20260627T160000
DTSTAMP:20260421T104457
CREATED:20251126T200356Z
LAST-MODIFIED:20260225T050827Z
UID:1222-1782576000-1782576000@weidenhausen.de
SUMMARY:Bratpartie TTC
DESCRIPTION:
URL:https://weidenhausen.de/event/bratpartie-ttc/
LOCATION:DGH Weidenhausen\, Weidenhausen\, Hessen\, 35075\, Deutschland
CATEGORIES:Allgemein
ATTACH;FMTTYPE=image/png:https://weidenhausen.de/wp-content/uploads/2025/12/TTC-Platzhalter.png
END:VEVENT
BEGIN:VEVENT
DTSTART;TZID=Europe/Berlin:20260628T103000
DTEND;TZID=Europe/Berlin:20260628T103000
DTSTAMP:20260421T104457
CREATED:20251126T200435Z
LAST-MODIFIED:20260225T050827Z
UID:1224-1782642600-1782642600@weidenhausen.de
SUMMARY:Bratpartie TTC
DESCRIPTION:
URL:https://weidenhausen.de/event/bratpartie-ttc-2/
LOCATION:DGH Weidenhausen\, Weidenhausen\, Hessen\, 35075\, Deutschland
CATEGORIES:Allgemein
ATTACH;FMTTYPE=image/png:https://weidenhausen.de/wp-content/uploads/2025/12/TTC-Platzhalter.png
END:VEVENT
BEGIN:VEVENT
DTSTART;TZID=Europe/Berlin:20260829T190000
DTEND;TZID=Europe/Berlin:20260829T190000
DTSTAMP:20260421T104457
CREATED:20260108T054109Z
LAST-MODIFIED:20260225T051455Z
UID:1330-1788030000-1788030000@weidenhausen.de
SUMMARY:Fledermausturnier
DESCRIPTION:
URL:https://weidenhausen.de/event/fledermausturnier/
LOCATION:Turnerheim Weidenhausen\, Turnerweg\, Weidenhausen\, Hessen\, 35075\, Deutschland
CATEGORIES:Allgemein
ATTACH;FMTTYPE=image/png:https://weidenhausen.de/wp-content/uploads/2026/01/Fledermausturnier.png
ORGANIZER;CN="TV1909 Weidenhausen e. V.":MAILTO:info@tv1909-weidenhausen.de
END:VEVENT
BEGIN:VEVENT
DTSTART;TZID=Europe/Berlin:20260830T100000
DTEND;TZID=Europe/Berlin:20260830T100000
DTSTAMP:20260421T104457
CREATED:20260108T053259Z
LAST-MODIFIED:20260225T051454Z
UID:1326-1788084000-1788084000@weidenhausen.de
SUMMARY:Fledermäuschen-Turnier
DESCRIPTION:
URL:https://weidenhausen.de/event/fledermaeuschen-turnier/
LOCATION:Turnerheim Weidenhausen\, Turnerweg\, Weidenhausen\, Hessen\, 35075\, Deutschland
CATEGORIES:Allgemein
ATTACH;FMTTYPE=image/png:https://weidenhausen.de/wp-content/uploads/2026/01/Fledermaeuschen-Turnier.png
END:VEVENT
BEGIN:VEVENT
DTSTART;TZID=Europe/Berlin:20260926T000000
DTEND;TZID=Europe/Berlin:20260926T235959
DTSTAMP:20260421T104457
CREATED:20251126T200521Z
LAST-MODIFIED:20260225T050913Z
UID:1226-1790380800-1790467199@weidenhausen.de
SUMMARY:Musikalisches Herbstfeuer
DESCRIPTION:
URL:https://weidenhausen.de/event/musikalisches-herbstfeuer/
LOCATION:Festplatz Weidenhausen\, Südring\, Weidenhausen\, Hessen\, 35075\, Deutschland
CATEGORIES:Allgemein
ATTACH;FMTTYPE=image/png:https://weidenhausen.de/wp-content/uploads/2025/11/FFW-Weidenhausen.png
END:VEVENT
BEGIN:VEVENT
DTSTART;TZID=Europe/Berlin:20261017T100000
DTEND;TZID=Europe/Berlin:20261017T100000
DTSTAMP:20260421T104457
CREATED:20251126T200612Z
LAST-MODIFIED:20260225T050827Z
UID:1228-1792231200-1792231200@weidenhausen.de
SUMMARY:Tischtennis Dorfturnier
DESCRIPTION:
URL:https://weidenhausen.de/event/tischtennis-dorfturnier/
LOCATION:Turnhalle ADS\, Himerichsweg 4-6\, Weidenhausen\, Hessen\, 35075\, Deutschland
CATEGORIES:Allgemein
ATTACH;FMTTYPE=image/png:https://weidenhausen.de/wp-content/uploads/2025/12/TTC-Platzhalter.png
END:VEVENT
BEGIN:VEVENT
DTSTART;TZID=Europe/Berlin:20261031T160000
DTEND;TZID=Europe/Berlin:20261031T160000
DTSTAMP:20260421T104457
CREATED:20251126T200655Z
LAST-MODIFIED:20260225T050810Z
UID:1230-1793462400-1793462400@weidenhausen.de
SUMMARY:Dickwurzschnitzen
DESCRIPTION:
URL:https://weidenhausen.de/event/dickwurzschnitzen/
LOCATION:Hinz Hoob\, Weidenhäuser Strasse 32\, Weidenhausen\, Hessen\, 35075\, Deutschland
CATEGORIES:Allgemein
ATTACH;FMTTYPE=image/png:https://weidenhausen.de/wp-content/uploads/2025/12/HV-Logo-Refresh.png
ORGANIZER;CN="HV Weidenhausen e. V.":MAILTO:info@hv-weidenhausen.de
END:VEVENT
BEGIN:VEVENT
DTSTART;TZID=Europe/Berlin:20261217T000000
DTEND;TZID=Europe/Berlin:20261219T235959
DTSTAMP:20260421T104457
CREATED:20251126T200747Z
LAST-MODIFIED:20260225T050732Z
UID:1232-1797465600-1797724799@weidenhausen.de
SUMMARY:Weihnachtsstand VfL
DESCRIPTION:
URL:https://weidenhausen.de/event/weihnachtsstand-vfl/
LOCATION:DGH Weidenhausen\, Weidenhausen\, Hessen\, 35075\, Deutschland
CATEGORIES:Allgemein
END:VEVENT
END:VCALENDAR